BEGIN:VCALENDAR
VERSION:2.0
PRODID:-//MYWAY - ECPv4.9.2//NONSGML v1.0//EN
CALSCALE:GREGORIAN
METHOD:PUBLISH
X-WR-CALNAME:MYWAY
X-ORIGINAL-URL:http://myway.pt
X-WR-CALDESC:Events for MYWAY
BEGIN:VEVENT
DTSTART;TZID=UTC+0:20170629T080000
DTEND;TZID=UTC+0:20170715T170000
DTSTAMP:20260426T004012
CREATED:20170524T171808Z
LAST-MODIFIED:20170524T171808Z
UID:36459-1498723200-1500138000@myway.pt
SUMMARY:Cineconchas 2017
DESCRIPTION:Vai começar mais um Cineconchas\, onde podes ver vários filmes ao ar livre. Será dividido por blocos de alguns dias por semana: de 29 junho a 1 de julho\, de 6 a 8 de julho e de 13 a 15 de julho e decorrerá na Quinta das Conchas\, em Lisboa. \nA programação já saiu\, para todas as idades e gostos. \n\nSemana 1 (29 junho – 1 julho)\n\n5ª Feira\, 29 – Julieta\n6ª Feira\, 30 – Passageiros\nSábado\, 1 – Smurfs\, a aldeia perdida \n\nSemana 2 (6 – 8 julho)\n\n5ª Feira\, 6 – Um Homem Chamado Ove\n6ª Feira\, 7 – Amigos\, amigos\, telemóveis à parte\nSábado\, 8 – La La Land – A Melodia do Amor \nSemana 3 (13 – 15 Julho) \n5ª Feira\, 13 – O Ilustre Cidadão\n6ª Feira\, 14 – Lion – A longa estrada para casa\nSábado\, 15 – Trolls \n
URL:http://myway.pt/event/cineconchas-2017
LOCATION:Cineconchas\, Quinta das Conchas\, Lisboa\, 1750
CATEGORIES:Festivais
ATTACH;FMTTYPE=image/jpeg:http://myway.pt/wp-content/uploads/2017/05/18620633_1450396021686972_7614901317163425855_o.jpg
END:VEVENT
END:VCALENDAR