BEGIN:VCALENDAR
VERSION:2.0
PRODID:-//MYWAY - ECPv4.9.2//NONSGML v1.0//EN
CALSCALE:GREGORIAN
METHOD:PUBLISH
X-WR-CALNAME:MYWAY
X-ORIGINAL-URL:http://myway.pt
X-WR-CALDESC:Events for MYWAY
BEGIN:VEVENT
DTSTART;VALUE=DATE:20170505
DTEND;VALUE=DATE:20170506
DTSTAMP:20260420T043416
CREATED:20170410T111320Z
LAST-MODIFIED:20170410T111320Z
UID:33872-1493942400-1494028799@myway.pt
SUMMARY:Paraguaii no Centro Cultural Vila Flor
DESCRIPTION:Paraguaii lançou o seu segundo álbum “Dream About The Things You Never Do“\, com 8 faixas. A banda de Guimarães nascida em 2013 e composta por Igor Gonçalves\, Giliano Boucinha\, Zé Pedro Caldas Correia e Rui Sousa\, lançou o seu primeiro single em 2014\, “She”\, uma EP homónima (2015) e o primeiro álbum em 2016\, “Scope”. \nDepois do concerto em Lisboa\, os Paraguaii têm concerto marcado para o dia 5 de Maio no Centro Cultural Vila Flor\, em Guimarães. Os bilhetes estão à venda por 3 euros. \n
URL:http://myway.pt/event/paraguaii-no-centro-cultural-vila-flor
LOCATION:Centro Cultural Vila Flor\, Avenida D. Afonso Henriques\, 701\, Guimarães\, 4810-431
CATEGORIES:Concertos
ATTACH;FMTTYPE=image/jpeg:http://myway.pt/wp-content/uploads/2017/04/17211948_1267319043345312_4629811529618254199_o.jpg
END:VEVENT
END:VCALENDAR